BEGIN:VCALENDAR
VERSION:2.0
PRODID:-//IIM Raipur - ECPv6.0.12//NONSGML v1.0//EN
CALSCALE:GREGORIAN
METHOD:PUBLISH
X-ORIGINAL-URL:https://iimraipur.ac.in
X-WR-CALDESC:Events for IIM Raipur
REFRESH-INTERVAL;VALUE=DURATION:PT1H
X-Robots-Tag:noindex
X-PUBLISHED-TTL:PT1H
BEGIN:VTIMEZONE
TZID:Asia/Kolkata
BEGIN:STANDARD
TZOFFSETFROM:+0530
TZOFFSETTO:+0530
TZNAME:IST
DTSTART:20240101T000000
END:STANDARD
END:VTIMEZONE
BEGIN:VEVENT
DTSTART;TZID=Asia/Kolkata:20240307T090000
DTEND;TZID=Asia/Kolkata:20240307T180000
DTSTAMP:20260419T192618
CREATED:20230717T084045Z
LAST-MODIFIED:20230717T084045Z
UID:10000249-1709802000-1709834400@iimraipur.ac.in
SUMMARY:BUILDING CORE LEADERSHIP COMPETENCIES
DESCRIPTION:Management Development Programme
URL:https://iimraipur.ac.in/event/building-core-leadership-competencies-9/
CATEGORIES:Executive Learning & Development Office
ATTACH;FMTTYPE=image/jpeg:https://iimraipur.ac.in/wp-content/uploads/2023/05/iimr-2.jpg
END:VEVENT
BEGIN:VEVENT
DTSTART;TZID=Asia/Kolkata:20240307T090100
DTEND;TZID=Asia/Kolkata:20240307T180000
DTSTAMP:20260419T192618
CREATED:20230810T052520Z
LAST-MODIFIED:20230810T052520Z
UID:10000273-1709802060-1709834400@iimraipur.ac.in
SUMMARY:Reflect-Rejuvenate-Reclaim\, A Personal leadership program for women
DESCRIPTION:Dr. Suneetha Saggurti
URL:https://iimraipur.ac.in/event/reflect-rejuvenate-reclaim-a-personal-leadership-program-for-women-2/
CATEGORIES:Executive Learning & Development Office
ATTACH;FMTTYPE=image/jpeg:https://iimraipur.ac.in/wp-content/uploads/2023/05/iimr-2.jpg
END:VEVENT
END:VCALENDAR