BEGIN:VCALENDAR
VERSION:2.0
PRODID:-//IIM Raipur - ECPv6.0.12//NONSGML v1.0//EN
CALSCALE:GREGORIAN
METHOD:PUBLISH
X-ORIGINAL-URL:https://iimraipur.ac.in
X-WR-CALDESC:Events for IIM Raipur
REFRESH-INTERVAL;VALUE=DURATION:PT1H
X-Robots-Tag:noindex
X-PUBLISHED-TTL:PT1H
BEGIN:VTIMEZONE
TZID:Asia/Kolkata
BEGIN:STANDARD
TZOFFSETFROM:+0530
TZOFFSETTO:+0530
TZNAME:IST
DTSTART:20250101T000000
END:STANDARD
END:VTIMEZONE
BEGIN:VEVENT
DTSTART;TZID=Asia/Kolkata:20250904T090000
DTEND;TZID=Asia/Kolkata:20250904T170000
DTSTAMP:20260419T174712
CREATED:20250903T053855Z
LAST-MODIFIED:20250903T054455Z
UID:10000721-1756976400-1757005200@iimraipur.ac.in
SUMMARY:Business Excellence Through Leadership
DESCRIPTION:
URL:https://iimraipur.ac.in/event/business-excellence-through-leadership-18/2025-09-04/
LOCATION:IIM Raipur
ATTACH;FMTTYPE=image/jpeg:https://iimraipur.ac.in/wp-content/uploads/2024/10/iimr-2.jpg
END:VEVENT
BEGIN:VEVENT
DTSTART;TZID=Asia/Kolkata:20250904T090000
DTEND;TZID=Asia/Kolkata:20250904T173000
DTSTAMP:20260419T174712
CREATED:20250828T091608Z
LAST-MODIFIED:20250828T091632Z
UID:10000703-1756976400-1757007000@iimraipur.ac.in
SUMMARY:Leveraging ChatGPT for Business & Education
DESCRIPTION:
URL:https://iimraipur.ac.in/event/leveraging-chatgpt-for-business-education-4/2025-09-04/
LOCATION:IIM Raipur
END:VEVENT
END:VCALENDAR