BEGIN:VCALENDAR
VERSION:2.0
PRODID:-//IIM Raipur - ECPv6.0.12//NONSGML v1.0//EN
CALSCALE:GREGORIAN
METHOD:PUBLISH
X-ORIGINAL-URL:https://iimraipur.ac.in
X-WR-CALDESC:Events for IIM Raipur
REFRESH-INTERVAL;VALUE=DURATION:PT1H
X-Robots-Tag:noindex
X-PUBLISHED-TTL:PT1H
BEGIN:VTIMEZONE
TZID:Asia/Kolkata
BEGIN:STANDARD
TZOFFSETFROM:+0530
TZOFFSETTO:+0530
TZNAME:IST
DTSTART:20220101T000000
END:STANDARD
END:VTIMEZONE
BEGIN:VEVENT
DTSTART;TZID=Asia/Kolkata:20221210T090000
DTEND;TZID=Asia/Kolkata:20221210T235900
DTSTAMP:20260420T023926
CREATED:20230504T062648Z
LAST-MODIFIED:20230504T062648Z
UID:10000016-1670662800-1670716740@iimraipur.ac.in
SUMMARY:MemoRia'22
DESCRIPTION:
URL:https://iimraipur.ac.in/event/memoria22/
CATEGORIES:Alumni Relations
END:VEVENT
END:VCALENDAR