BEGIN:VCALENDAR
VERSION:2.0
PRODID:-//IIM Raipur - ECPv6.0.12//NONSGML v1.0//EN
CALSCALE:GREGORIAN
METHOD:PUBLISH
X-WR-CALNAME:IIM Raipur
X-ORIGINAL-URL:https://iimraipur.ac.in
X-WR-CALDESC:Events for IIM Raipur
REFRESH-INTERVAL;VALUE=DURATION:PT1H
X-Robots-Tag:noindex
X-PUBLISHED-TTL:PT1H
BEGIN:VTIMEZONE
TZID:Asia/Kolkata
BEGIN:STANDARD
TZOFFSETFROM:+0530
TZOFFSETTO:+0530
TZNAME:IST
DTSTART:20230101T000000
END:STANDARD
END:VTIMEZONE
BEGIN:VEVENT
DTSTART;TZID=Asia/Kolkata:20230202T180000
DTEND;TZID=Asia/Kolkata:20230202T235900
DTSTAMP:20260419T231125
CREATED:20230504T062623Z
LAST-MODIFIED:20230504T062623Z
UID:10000010-1675360800-1675382340@iimraipur.ac.in
SUMMARY:Gyan Varsha Event 2nd Feb & Book Launch
DESCRIPTION:
URL:https://iimraipur.ac.in/event/gyan-varsha-event-2nd-feb-book-launch/
CATEGORIES:Alumni Relations
END:VEVENT
END:VCALENDAR