BEGIN:VCALENDAR
VERSION:2.0
PRODID:-//IIM Raipur - ECPv6.0.12//NONSGML v1.0//EN
CALSCALE:GREGORIAN
METHOD:PUBLISH
X-ORIGINAL-URL:https://iimraipur.ac.in
X-WR-CALDESC:Events for IIM Raipur
REFRESH-INTERVAL;VALUE=DURATION:PT1H
X-Robots-Tag:noindex
X-PUBLISHED-TTL:PT1H
BEGIN:VTIMEZONE
TZID:Asia/Kolkata
BEGIN:STANDARD
TZOFFSETFROM:+0530
TZOFFSETTO:+0530
TZNAME:IST
DTSTART:20220101T000000
END:STANDARD
END:VTIMEZONE
BEGIN:VEVENT
DTSTART;TZID=Asia/Kolkata:20221226T153000
DTEND;TZID=Asia/Kolkata:20221226T235900
DTSTAMP:20260425T184523
CREATED:20230504T062645Z
LAST-MODIFIED:20230504T062645Z
UID:10000013-1672068600-1672099140@iimraipur.ac.in
SUMMARY:Guest Lecture by Prof. Amar KJR Nayak
DESCRIPTION:
URL:https://iimraipur.ac.in/event/guest-lecture-by-prof-amar-kjr-nayak/
CATEGORIES:Consulting and Sponsored Research
END:VEVENT
END:VCALENDAR