BEGIN:VCALENDAR
VERSION:2.0
PRODID:-//IIM Raipur - ECPv6.0.12//NONSGML v1.0//EN
CALSCALE:GREGORIAN
METHOD:PUBLISH
X-WR-CALNAME:IIM Raipur
X-ORIGINAL-URL:https://iimraipur.ac.in
X-WR-CALDESC:Events for IIM Raipur
REFRESH-INTERVAL;VALUE=DURATION:PT1H
X-Robots-Tag:noindex
X-PUBLISHED-TTL:PT1H
BEGIN:VTIMEZONE
TZID:Asia/Kolkata
BEGIN:STANDARD
TZOFFSETFROM:+0530
TZOFFSETTO:+0530
TZNAME:IST
DTSTART:20260101T000000
END:STANDARD
END:VTIMEZONE
BEGIN:VEVENT
DTSTART;TZID=Asia/Kolkata:20260301T090000
DTEND;TZID=Asia/Kolkata:20260301T170000
DTSTAMP:20260419T224536
CREATED:20260115T043957Z
LAST-MODIFIED:20260115T043957Z
UID:10000850-1772355600-1772384400@iimraipur.ac.in
SUMMARY:Enterprise Blockchain Technology: Preparing Leaders for the Decentralized Future
DESCRIPTION:
URL:https://iimraipur.ac.in/event/enterprise-blockchain-technology-preparing-leaders-for-the-decentralized-future-6/
CATEGORIES:Executive Learning & Development Office
ATTACH;FMTTYPE=image/jpeg:https://iimraipur.ac.in/wp-content/uploads/2023/05/iimr-2.jpg
END:VEVENT
BEGIN:VEVENT
DTSTART;TZID=Asia/Kolkata:20260305T090000
DTEND;TZID=Asia/Kolkata:20260305T173000
DTSTAMP:20260419T224536
CREATED:20260220T071934Z
LAST-MODIFIED:20260220T071934Z
UID:10000851-1772701200-1772731800@iimraipur.ac.in
SUMMARY:Leveraging International women’s day
DESCRIPTION:
URL:https://iimraipur.ac.in/event/leveraging-international-womens-day/
CATEGORIES:Executive Learning & Development Office
ATTACH;FMTTYPE=image/jpeg:https://iimraipur.ac.in/wp-content/uploads/2024/10/iimr-2.jpg
END:VEVENT
BEGIN:VEVENT
DTSTART;TZID=Asia/Kolkata:20260306T090000
DTEND;TZID=Asia/Kolkata:20260306T170000
DTSTAMP:20260419T224536
CREATED:20260220T072010Z
LAST-MODIFIED:20260220T072010Z
UID:10000852-1772787600-1772816400@iimraipur.ac.in
SUMMARY:Leveraging International women’s day
DESCRIPTION:
URL:https://iimraipur.ac.in/event/leveraging-international-womens-day-2/
CATEGORIES:Executive Learning & Development Office
ATTACH;FMTTYPE=image/jpeg:https://iimraipur.ac.in/wp-content/uploads/2024/10/iimr-2.jpg
END:VEVENT
BEGIN:VEVENT
DTSTART;TZID=Asia/Kolkata:20260307T090000
DTEND;TZID=Asia/Kolkata:20260307T170000
DTSTAMP:20260419T224536
CREATED:20260220T072050Z
LAST-MODIFIED:20260220T072050Z
UID:10000853-1772874000-1772902800@iimraipur.ac.in
SUMMARY:Leveraging International women’s day
DESCRIPTION:
URL:https://iimraipur.ac.in/event/leveraging-international-womens-day-3/
CATEGORIES:Executive Learning & Development Office
ATTACH;FMTTYPE=image/jpeg:https://iimraipur.ac.in/wp-content/uploads/2024/10/iimr-2.jpg
END:VEVENT
BEGIN:VEVENT
DTSTART;TZID=Asia/Kolkata:20260308T090000
DTEND;TZID=Asia/Kolkata:20260308T170000
DTSTAMP:20260419T224536
CREATED:20260220T072136Z
LAST-MODIFIED:20260220T072136Z
UID:10000854-1772960400-1772989200@iimraipur.ac.in
SUMMARY:Leveraging International women’s day
DESCRIPTION:
URL:https://iimraipur.ac.in/event/leveraging-international-womens-day-4/
CATEGORIES:Executive Learning & Development Office
ATTACH;FMTTYPE=image/jpeg:https://iimraipur.ac.in/wp-content/uploads/2024/10/iimr-2.jpg
END:VEVENT
BEGIN:VEVENT
DTSTART;TZID=Asia/Kolkata:20260316T090000
DTEND;TZID=Asia/Kolkata:20260316T170000
DTSTAMP:20260419T224536
CREATED:20260220T072450Z
LAST-MODIFIED:20260220T072450Z
UID:10000858-1773651600-1773680400@iimraipur.ac.in
SUMMARY:Business Sustainability & Climate Risk Management
DESCRIPTION:
URL:https://iimraipur.ac.in/event/business-sustainability-climate-risk-management-7/
CATEGORIES:Executive Learning & Development Office
ATTACH;FMTTYPE=image/jpeg:https://iimraipur.ac.in/wp-content/uploads/2024/10/iimr-2.jpg
END:VEVENT
BEGIN:VEVENT
DTSTART;TZID=Asia/Kolkata:20260317T090000
DTEND;TZID=Asia/Kolkata:20260317T170000
DTSTAMP:20260419T224536
CREATED:20260220T072524Z
LAST-MODIFIED:20260220T072524Z
UID:10000859-1773738000-1773766800@iimraipur.ac.in
SUMMARY:Business Sustainability & Climate Risk Management
DESCRIPTION:
URL:https://iimraipur.ac.in/event/business-sustainability-climate-risk-management-8/
CATEGORIES:Executive Learning & Development Office
ATTACH;FMTTYPE=image/jpeg:https://iimraipur.ac.in/wp-content/uploads/2024/10/iimr-2.jpg
END:VEVENT
BEGIN:VEVENT
DTSTART;TZID=Asia/Kolkata:20260318T090000
DTEND;TZID=Asia/Kolkata:20260318T170000
DTSTAMP:20260419T224536
CREATED:20260220T072556Z
LAST-MODIFIED:20260220T072556Z
UID:10000860-1773824400-1773853200@iimraipur.ac.in
SUMMARY:Business Sustainability & Climate Risk Management
DESCRIPTION:
URL:https://iimraipur.ac.in/event/business-sustainability-climate-risk-management-9/
CATEGORIES:Executive Learning & Development Office
ATTACH;FMTTYPE=image/jpeg:https://iimraipur.ac.in/wp-content/uploads/2024/10/iimr-2.jpg
END:VEVENT
BEGIN:VEVENT
DTSTART;TZID=Asia/Kolkata:20260319T090000
DTEND;TZID=Asia/Kolkata:20260319T170000
DTSTAMP:20260419T224536
CREATED:20260220T072656Z
LAST-MODIFIED:20260220T072656Z
UID:10000861-1773910800-1773939600@iimraipur.ac.in
SUMMARY:Business Sustainability & Climate Risk Management
DESCRIPTION:
URL:https://iimraipur.ac.in/event/business-sustainability-climate-risk-management-10/
CATEGORIES:Executive Learning & Development Office
ATTACH;FMTTYPE=image/jpeg:https://iimraipur.ac.in/wp-content/uploads/2024/10/iimr-2.jpg
END:VEVENT
BEGIN:VEVENT
DTSTART;TZID=Asia/Kolkata:20260320T090000
DTEND;TZID=Asia/Kolkata:20260320T170000
DTSTAMP:20260419T224536
CREATED:20260220T072735Z
LAST-MODIFIED:20260220T072735Z
UID:10000862-1773997200-1774026000@iimraipur.ac.in
SUMMARY:Business Sustainability & Climate Risk Management
DESCRIPTION:
URL:https://iimraipur.ac.in/event/business-sustainability-climate-risk-management-11/
CATEGORIES:Executive Learning & Development Office
ATTACH;FMTTYPE=image/jpeg:https://iimraipur.ac.in/wp-content/uploads/2024/10/iimr-2.jpg
END:VEVENT
BEGIN:VEVENT
DTSTART;TZID=Asia/Kolkata:20260323T090000
DTEND;TZID=Asia/Kolkata:20260323T170000
DTSTAMP:20260419T224536
CREATED:20260220T072253Z
LAST-MODIFIED:20260220T072253Z
UID:10000855-1774256400-1774285200@iimraipur.ac.in
SUMMARY:Decoding Organizational Politics
DESCRIPTION:
URL:https://iimraipur.ac.in/event/decoding-organizational-politics-7/
CATEGORIES:Executive Learning & Development Office
ATTACH;FMTTYPE=image/jpeg:https://iimraipur.ac.in/wp-content/uploads/2024/10/iimr-2.jpg
END:VEVENT
BEGIN:VEVENT
DTSTART;TZID=Asia/Kolkata:20260324T090000
DTEND;TZID=Asia/Kolkata:20260324T170000
DTSTAMP:20260419T224536
CREATED:20260220T072329Z
LAST-MODIFIED:20260220T072329Z
UID:10000856-1774342800-1774371600@iimraipur.ac.in
SUMMARY:Decoding Organizational Politics
DESCRIPTION:
URL:https://iimraipur.ac.in/event/decoding-organizational-politics-8/
CATEGORIES:Executive Learning & Development Office
ATTACH;FMTTYPE=image/jpeg:https://iimraipur.ac.in/wp-content/uploads/2024/10/iimr-2.jpg
END:VEVENT
BEGIN:VEVENT
DTSTART;TZID=Asia/Kolkata:20260325T090000
DTEND;TZID=Asia/Kolkata:20260325T170000
DTSTAMP:20260419T224536
CREATED:20260220T072407Z
LAST-MODIFIED:20260220T072407Z
UID:10000857-1774429200-1774458000@iimraipur.ac.in
SUMMARY:Decoding Organizational Politics
DESCRIPTION:
URL:https://iimraipur.ac.in/event/decoding-organizational-politics-9/
CATEGORIES:Executive Learning & Development Office
ATTACH;FMTTYPE=image/jpeg:https://iimraipur.ac.in/wp-content/uploads/2024/10/iimr-2.jpg
END:VEVENT
END:VCALENDAR