BEGIN:VCALENDAR
VERSION:2.0
PRODID:-//IIM Raipur - ECPv6.0.12//NONSGML v1.0//EN
CALSCALE:GREGORIAN
METHOD:PUBLISH
X-WR-CALNAME:IIM Raipur
X-ORIGINAL-URL:https://iimraipur.ac.in
X-WR-CALDESC:Events for IIM Raipur
REFRESH-INTERVAL;VALUE=DURATION:PT1H
X-Robots-Tag:noindex
X-PUBLISHED-TTL:PT1H
BEGIN:VTIMEZONE
TZID:Asia/Kolkata
BEGIN:STANDARD
TZOFFSETFROM:+0530
TZOFFSETTO:+0530
TZNAME:IST
DTSTART:20260101T000000
END:STANDARD
END:VTIMEZONE
BEGIN:VEVENT
DTSTART;TZID=Asia/Kolkata:20260501T090000
DTEND;TZID=Asia/Kolkata:20260501T170000
DTSTAMP:20260419T224537
CREATED:20260328T082014Z
LAST-MODIFIED:20260328T082014Z
UID:10000870-1777626000-1777654800@iimraipur.ac.in
SUMMARY:Communicating with Franchisees
DESCRIPTION:
URL:https://iimraipur.ac.in/event/communicating-with-franchisees-7/
CATEGORIES:Executive Learning & Development Office
ATTACH;FMTTYPE=image/jpeg:https://iimraipur.ac.in/wp-content/uploads/2023/05/iimr-2.jpg
END:VEVENT
BEGIN:VEVENT
DTSTART;TZID=Asia/Kolkata:20260501T090000
DTEND;TZID=Asia/Kolkata:20260501T170000
DTSTAMP:20260419T224537
CREATED:20260328T083021Z
LAST-MODIFIED:20260328T083021Z
UID:10000886-1777626000-1777654800@iimraipur.ac.in
SUMMARY:FDP – Classroom Communication for Teachers
DESCRIPTION:
URL:https://iimraipur.ac.in/event/fdp-classroom-communication-for-teachers-6/
CATEGORIES:Executive Learning & Development Office
ATTACH;FMTTYPE=image/jpeg:https://iimraipur.ac.in/wp-content/uploads/2023/05/iimr-2.jpg
END:VEVENT
BEGIN:VEVENT
DTSTART;TZID=Asia/Kolkata:20260502T090000
DTEND;TZID=Asia/Kolkata:20260502T170000
DTSTAMP:20260419T224537
CREATED:20260328T082054Z
LAST-MODIFIED:20260328T082054Z
UID:10000871-1777712400-1777741200@iimraipur.ac.in
SUMMARY:Communicating with Franchisees
DESCRIPTION:
URL:https://iimraipur.ac.in/event/communicating-with-franchisees-8/
CATEGORIES:Executive Learning & Development Office
ATTACH;FMTTYPE=image/jpeg:https://iimraipur.ac.in/wp-content/uploads/2023/05/iimr-2.jpg
END:VEVENT
BEGIN:VEVENT
DTSTART;TZID=Asia/Kolkata:20260502T090000
DTEND;TZID=Asia/Kolkata:20260502T170000
DTSTAMP:20260419T224537
CREATED:20260328T083059Z
LAST-MODIFIED:20260328T083059Z
UID:10000887-1777712400-1777741200@iimraipur.ac.in
SUMMARY:FDP – Classroom Communication for Teachers
DESCRIPTION:
URL:https://iimraipur.ac.in/event/fdp-classroom-communication-for-teachers-7/
CATEGORIES:Executive Learning & Development Office
ATTACH;FMTTYPE=image/jpeg:https://iimraipur.ac.in/wp-content/uploads/2023/05/iimr-2.jpg
END:VEVENT
END:VCALENDAR