BEGIN:VCALENDAR
VERSION:2.0
PRODID:-//IIM Raipur - ECPv6.0.12//NONSGML v1.0//EN
CALSCALE:GREGORIAN
METHOD:PUBLISH
X-WR-CALNAME:IIM Raipur
X-ORIGINAL-URL:https://iimraipur.ac.in
X-WR-CALDESC:Events for IIM Raipur
REFRESH-INTERVAL;VALUE=DURATION:PT1H
X-Robots-Tag:noindex
X-PUBLISHED-TTL:PT1H
BEGIN:VTIMEZONE
TZID:Asia/Kolkata
BEGIN:STANDARD
TZOFFSETFROM:+0530
TZOFFSETTO:+0530
TZNAME:IST
DTSTART:20250101T000000
END:STANDARD
END:VTIMEZONE
BEGIN:VEVENT
DTSTART;TZID=Asia/Kolkata:20250605T090000
DTEND;TZID=Asia/Kolkata:20250605T173000
DTSTAMP:20260419T230832
CREATED:20250501T052649Z
LAST-MODIFIED:20250501T052813Z
UID:10000664-1749114000-1749144600@iimraipur.ac.in
SUMMARY:Building Core Leadership Competencies
DESCRIPTION:
URL:https://iimraipur.ac.in/event/building-core-leadership-competencies-13/2025-06-05/
LOCATION:MDC_Class Room\, Raipur
CATEGORIES:Executive Learning & Development Office
ATTACH;FMTTYPE=image/jpeg:https://iimraipur.ac.in/wp-content/uploads/2024/10/iimr-2.jpg
END:VEVENT
BEGIN:VEVENT
DTSTART;TZID=Asia/Kolkata:20250605T090000
DTEND;TZID=Asia/Kolkata:20250605T173000
DTSTAMP:20260419T230832
CREATED:20250501T054024Z
LAST-MODIFIED:20250501T054546Z
UID:10000669-1749114000-1749144600@iimraipur.ac.in
SUMMARY:Finance for Non-Finance Executives: Unlocking Financial Management Skills for Business Success
DESCRIPTION:
URL:https://iimraipur.ac.in/event/finance-for-non-finance-executives-unlocking-financial-management-skills-for-business-success-5/2025-06-05/
LOCATION:MDC_Class Room\, Raipur
CATEGORIES:Executive Learning & Development Office
ATTACH;FMTTYPE=image/jpeg:https://iimraipur.ac.in/wp-content/uploads/2023/05/iimr-2.jpg
END:VEVENT
END:VCALENDAR