BEGIN:VCALENDAR
VERSION:2.0
PRODID:-//IIM Raipur - ECPv6.0.12//NONSGML v1.0//EN
CALSCALE:GREGORIAN
METHOD:PUBLISH
X-ORIGINAL-URL:https://iimraipur.ac.in
X-WR-CALDESC:Events for IIM Raipur
REFRESH-INTERVAL;VALUE=DURATION:PT1H
X-Robots-Tag:noindex
X-PUBLISHED-TTL:PT1H
BEGIN:VTIMEZONE
TZID:Asia/Kolkata
BEGIN:STANDARD
TZOFFSETFROM:+0530
TZOFFSETTO:+0530
TZNAME:IST
DTSTART:20250101T000000
END:STANDARD
END:VTIMEZONE
BEGIN:VEVENT
DTSTART;TZID=Asia/Kolkata:20251006T080000
DTEND;TZID=Asia/Kolkata:20251008T170000
DTSTAMP:20260420T090053
CREATED:20251009T081612Z
LAST-MODIFIED:20251009T081948Z
UID:10000744-1759737600-1759942800@iimraipur.ac.in
SUMMARY:Public Private Partnership
DESCRIPTION:
URL:https://iimraipur.ac.in/event/public-private-partnership/
CATEGORIES:Executive Learning & Development Office
ATTACH;FMTTYPE=image/jpeg:https://iimraipur.ac.in/wp-content/uploads/2023/05/iimr-2.jpg
END:VEVENT
BEGIN:VEVENT
DTSTART;TZID=Asia/Kolkata:20251006T080000
DTEND;TZID=Asia/Kolkata:20251008T170000
DTSTAMP:20260420T090053
CREATED:20251009T082311Z
LAST-MODIFIED:20251009T082311Z
UID:10000745-1759737600-1759942800@iimraipur.ac.in
SUMMARY:Public Private Partnership
DESCRIPTION:
URL:https://iimraipur.ac.in/event/public-private-partnership-2/
CATEGORIES:Executive Learning & Development Office
ATTACH;FMTTYPE=image/jpeg:https://iimraipur.ac.in/wp-content/uploads/2023/05/iimr-2.jpg
END:VEVENT
BEGIN:VEVENT
DTSTART;TZID=Asia/Kolkata:20251007T080000
DTEND;TZID=Asia/Kolkata:20251007T170000
DTSTAMP:20260420T090053
CREATED:20251009T082910Z
LAST-MODIFIED:20251009T082910Z
UID:10000747-1759824000-1759856400@iimraipur.ac.in
SUMMARY:Public Private Partnership
DESCRIPTION:
URL:https://iimraipur.ac.in/event/public-private-partnership-4/
CATEGORIES:Executive Learning & Development Office
END:VEVENT
END:VCALENDAR