BEGIN:VCALENDAR
VERSION:2.0
PRODID:-//IIM Raipur - ECPv6.0.12//NONSGML v1.0//EN
CALSCALE:GREGORIAN
METHOD:PUBLISH
X-WR-CALNAME:IIM Raipur
X-ORIGINAL-URL:https://iimraipur.ac.in
X-WR-CALDESC:Events for IIM Raipur
REFRESH-INTERVAL;VALUE=DURATION:PT1H
X-Robots-Tag:noindex
X-PUBLISHED-TTL:PT1H
BEGIN:VTIMEZONE
TZID:Asia/Kolkata
BEGIN:STANDARD
TZOFFSETFROM:+0530
TZOFFSETTO:+0530
TZNAME:IST
DTSTART:20250101T000000
END:STANDARD
END:VTIMEZONE
BEGIN:VEVENT
DTSTART;TZID=Asia/Kolkata:20251029T080000
DTEND;TZID=Asia/Kolkata:20251029T170000
DTSTAMP:20260420T072226
CREATED:20251028T035302Z
LAST-MODIFIED:20251028T035302Z
UID:10000761-1761724800-1761757200@iimraipur.ac.in
SUMMARY:Management & Leadership
DESCRIPTION:
URL:https://iimraipur.ac.in/event/management-leadership-4/
CATEGORIES:Executive Learning & Development Office
ATTACH;FMTTYPE=image/jpeg:https://iimraipur.ac.in/wp-content/uploads/2023/05/iimr-2.jpg
END:VEVENT
BEGIN:VEVENT
DTSTART;TZID=Asia/Kolkata:20251029T090000
DTEND;TZID=Asia/Kolkata:20251029T170000
DTSTAMP:20260420T072226
CREATED:20251028T035233Z
LAST-MODIFIED:20251028T035233Z
UID:10000760-1761728400-1761757200@iimraipur.ac.in
SUMMARY:Management & Leadership
DESCRIPTION:
URL:https://iimraipur.ac.in/event/management-leadership-3/
CATEGORIES:Executive Learning & Development Office
ATTACH;FMTTYPE=image/jpeg:https://iimraipur.ac.in/wp-content/uploads/2023/05/iimr-2.jpg
END:VEVENT
END:VCALENDAR