BEGIN:VCALENDAR
VERSION:2.0
PRODID:-//IIM Raipur - ECPv6.0.12//NONSGML v1.0//EN
CALSCALE:GREGORIAN
METHOD:PUBLISH
X-WR-CALNAME:IIM Raipur
X-ORIGINAL-URL:https://iimraipur.ac.in
X-WR-CALDESC:Events for IIM Raipur
REFRESH-INTERVAL;VALUE=DURATION:PT1H
X-Robots-Tag:noindex
X-PUBLISHED-TTL:PT1H
BEGIN:VTIMEZONE
TZID:Asia/Kolkata
BEGIN:STANDARD
TZOFFSETFROM:+0530
TZOFFSETTO:+0530
TZNAME:IST
DTSTART:20260101T000000
END:STANDARD
END:VTIMEZONE
BEGIN:VEVENT
DTSTART;TZID=Asia/Kolkata:20260226T090000
DTEND;TZID=Asia/Kolkata:20260226T170000
DTSTAMP:20260420T020820
CREATED:20260115T043453Z
LAST-MODIFIED:20260115T043453Z
UID:10000844-1772096400-1772125200@iimraipur.ac.in
SUMMARY:Mindful Workforce Impact Program: Enhancing Well-Being\, Engagement & Productivity
DESCRIPTION:
URL:https://iimraipur.ac.in/event/mindful-workforce-impact-program-enhancing-well-being-engagement-productivity-2/
CATEGORIES:Executive Learning & Development Office
END:VEVENT
END:VCALENDAR